BEGIN:VCALENDAR
VERSION:2.0
PRODID:-//wp-events-plugin.com//7.2.2.1//EN
TZID:Europe/Berlin
X-WR-TIMEZONE:Europe/Berlin
BEGIN:VEVENT
UID:86@tsv-moosburg.de
DTSTART;TZID=Europe/Berlin:20260425T110000
DTEND;TZID=Europe/Berlin:20260425T121500
DTSTAMP:20260403T125109Z
URL:https://tsv-moosburg.de/platzbelegung/tsv-e-i-sv-voetting-weihenstepha
 n/
SUMMARY:TSV E I - SV Vötting-Weihenstephan
DESCRIPTION:
CATEGORIES:Nebenplatz
END:VEVENT
BEGIN:VTIMEZONE
TZID:Europe/Berlin
X-LIC-LOCATION:Europe/Berlin
BEGIN:DAYLIGHT
DTSTART:20260329T030000
TZOFFSETFROM:+0100
TZOFFSETTO:+0200
TZNAME:CEST
END:DAYLIGHT
END:VTIMEZONE
END:VCALENDAR