BEGIN:VCALENDAR
VERSION:2.0
PRODID:-//wp-events-plugin.com//7.2.2.1//EN
TZID:Europe/Berlin
X-WR-TIMEZONE:Europe/Berlin
BEGIN:VEVENT
UID:77@tsv-moosburg.de
DTSTART;TZID=Europe/Berlin:20260328T110000
DTEND;TZID=Europe/Berlin:20260328T123000
DTSTAMP:20260311T205334Z
URL:https://tsv-moosburg.de/platzbelegung/tsv-c-sc-buch-am-erlbach/
SUMMARY:TSV C - SC Buch am Erlbach
DESCRIPTION:
CATEGORIES:Hauptplatz
END:VEVENT
BEGIN:VTIMEZONE
TZID:Europe/Berlin
X-LIC-LOCATION:Europe/Berlin
BEGIN:STANDARD
DTSTART:20251026T020000
TZOFFSETFROM:+0200
TZOFFSETTO:+0100
TZNAME:CET
END:STANDARD
END:VTIMEZONE
END:VCALENDAR