BEGIN:VCALENDAR
VERSION:2.0
PRODID:-//wp-events-plugin.com//7.2.2.1//EN
TZID:Europe/Berlin
X-WR-TIMEZONE:Europe/Berlin
BEGIN:VEVENT
UID:73@tsv-moosburg.de
DTSTART;TZID=Europe/Berlin:20260325T180000
DTEND;TZID=Europe/Berlin:20260325T191500
DTSTAMP:20260311T205546Z
URL:https://tsv-moosburg.de/platzbelegung/e1-tsv-nandlstadt-e1-sparkassen-
 pokal/
SUMMARY:TSV E1 - TSV Nandlstadt E1  Sparkassen Pokal
DESCRIPTION:
CATEGORIES:Hauptplatz
END:VEVENT
BEGIN:VTIMEZONE
TZID:Europe/Berlin
X-LIC-LOCATION:Europe/Berlin
BEGIN:STANDARD
DTSTART:20251026T020000
TZOFFSETFROM:+0200
TZOFFSETTO:+0100
TZNAME:CET
END:STANDARD
END:VTIMEZONE
END:VCALENDAR